BEGIN:VCALENDAR
VERSION:2.0
PRODID:-//Trojan Safety - ECPv6.15.18//NONSGML v1.0//EN
CALSCALE:GREGORIAN
METHOD:PUBLISH
X-WR-CALNAME:Trojan Safety
X-ORIGINAL-URL:https://www.trojansafety.com
X-WR-CALDESC:Events for Trojan Safety
REFRESH-INTERVAL;VALUE=DURATION:PT1H
X-Robots-Tag:noindex
X-PUBLISHED-TTL:PT1H
BEGIN:VTIMEZONE
TZID:America/Phoenix
BEGIN:STANDARD
TZOFFSETFROM:-0700
TZOFFSETTO:-0700
TZNAME:MST
DTSTART:20240101T000000
END:STANDARD
END:VTIMEZONE
BEGIN:VEVENT
DTSTART;TZID=America/Phoenix:20251217T000000
DTEND;TZID=America/Phoenix:20251218T235900
DTSTAMP:20260424T155330
CREATED:20260313T194317Z
LAST-MODIFIED:20260424T194314Z
UID:94495-1765929600-1766102340@www.trojansafety.com
SUMMARY:Intermediate First Aid
DESCRIPTION:The WorkSafe BC Intermediate First Aid course is a 14 hour program\, excluding coffee and lunch breaks. In order to be successful\, candidates achieve 70% on a multiple choice exam. Upon successful completion of the course\, participants receive a 3-year certification \nAttendance for both SESSIONS is MANDATORY in order to be eligible for certification.  \nTo register and complete the course\, you will need to have: \n\nPhoto ID\, or 2 non-photo gov’t issued ID’s\n\nThis course covers a wide range of patient care: \n\nMinor injuries\nSerious traumas\nMedical conditions\nAirway breathing and circulatory emergencies\n\nCANCELLATION POLICY: \nPlease let us know at least 24 hours (1 business day) before your course date if you need to cancel your booking\, otherwise\, you will be charged a $100 No-Show fee.
URL:https://www.trojansafety.com/event/intermediate-first-aid-4/
LOCATION:Trojan Safety Services – MAIN\, CA\, CA
CATEGORIES:Intermediate First Aid
ATTACH;FMTTYPE=image/jpeg:https://www.trojansafety.com/wp-content/uploads/2026/03/ticket-tailor-event-93255-1772560294.jpg
END:VEVENT
END:VCALENDAR