BEGIN:VCALENDAR
VERSION:2.0
PRODID:-//Trojan Safety - ECPv6.15.18//NONSGML v1.0//EN
CALSCALE:GREGORIAN
METHOD:PUBLISH
X-WR-CALNAME:Trojan Safety
X-ORIGINAL-URL:https://www.trojansafety.com
X-WR-CALDESC:Events for Trojan Safety
REFRESH-INTERVAL;VALUE=DURATION:PT1H
X-Robots-Tag:noindex
X-PUBLISHED-TTL:PT1H
BEGIN:VTIMEZONE
TZID:America/Phoenix
BEGIN:STANDARD
TZOFFSETFROM:-0700
TZOFFSETTO:-0700
TZNAME:MST
DTSTART:20250101T000000
END:STANDARD
END:VTIMEZONE
BEGIN:VEVENT
DTSTART;TZID=America/Phoenix:20260413T080000
DTEND;TZID=America/Phoenix:20260424T163000
DTSTAMP:20260420T035440
CREATED:20260303T182043Z
LAST-MODIFIED:20260419T195301Z
UID:93892-1776067200-1777048200@www.trojansafety.com
SUMMARY:Advanced First Aid
DESCRIPTION:Course Length: 70 HoursCourse Schedule: This First Aid – Advanced course runs for two weeks (10 days) on the following dates: \n\nMonday to Friday from 8 am to 4:30 pm\n\nCost: $1450 (Plus GST)Location: Best Western Plus Chateau\, 8322 86 St\, Fort St. John\, BC \n\nThe WorkSafe BC First Aid – Advanced course is a minimum 70 hour program\, excluding coffee and lunch breaks. In order to be successful\, candidates achieve 70% on a multiple choice exam\, and must demonstrate practical skill competency with a grade of 70% or better. Upon successful completion of the course\, participants receive a 3-year certification. \n\nAttendance for all  SESSIONS is MANDATORY in order to be eligible for certification.\nPre-reading of the course manuals is required – see the reading list here\nIt is recommended that students pick up AFA manuals 2 weeks prior to the start date of the course to begin reading the material.\nStudents are required to complete a statement of fitness prior to the beginning of the course stating they are mentally and physically capable of performing the duties of an AFA Attendant\n\n\nTo register and complete the course\, you will need to have: \n\nPhoto ID\, or 2 non-photo gov’t issued ID’s\n\nThis course covers a wide range of patient care: \n\nMinor injuries\nSerious traumas\nMedical conditions\nAirway breathing and circulatory emergencies\n\nCANCELLATION POLICY: \nThis course is paid in full at the time of booking. Cancellations one week prior to the start date will receive a full refund. Within a week of the course\, 50% refund\, and no refund for no-shows.
URL:https://www.trojansafety.com/event/advanced-first-aid-2/
LOCATION:Best Western Plus Chateau Fort St. John\, CA\, CA
CATEGORIES:Advanced First Aid
ATTACH;FMTTYPE=image/jpeg:https://www.trojansafety.com/wp-content/uploads/2026/03/ticket-tailor-event-93334-1772560338.jpg
END:VEVENT
BEGIN:VEVENT
DTSTART;TZID=America/Phoenix:20260420T080000
DTEND;TZID=America/Phoenix:20260420T160000
DTSTAMP:20260420T035440
CREATED:20260303T181938Z
LAST-MODIFIED:20260419T194525Z
UID:93780-1776672000-1776700800@www.trojansafety.com
SUMMARY:Basic First Aid
DESCRIPTION:Course Length: 8 HoursStart Time: 8:00am sharpCost: $170 (Plus GST)Location: Trojan Safety Training Centre\, 11116 Tahltan Road\, Fort St. John\, BC \n\nThe WorkSafe BC Basic First Aid course is a 8 hour program\, including coffee and lunch breaks. In order to be successful\, candidates must demonstrate practical skill competency and achieve 70% on a multiple choice exam. On successful completion of the course\, participants receive a 3-year certification. \n\nTo register and complete the course\, you will need to have: \n\nPhoto ID\, or 2 non-photo gov’t issued ID’s\n\nThis Course Covers: \n\nPriority action assessment – assess hazards\, activate ERP\, assess injuries\nMinor wound care\, first aid records\, roles and responsibilities of OFA’s\nChoking\, CPR\, AED’s (Automated External Defibrillators)\nTreatment of shock\, medical emergencies\n\nCANCELLATION POLICY:Please let us know at least 24 hours (1 business day) before your course date if you need to cancel your booking\, otherwise\, you will be charged a $100 No-Show fee. \n.
URL:https://www.trojansafety.com/event/basic-first-aid-32/
LOCATION:Trojan Safety Services – MAIN\, CA\, CA
CATEGORIES:Basic First Aid
ATTACH;FMTTYPE=image/jpeg:https://www.trojansafety.com/wp-content/uploads/2026/03/ticket-tailor-event-93242-1772560287.jpg
END:VEVENT
BEGIN:VEVENT
DTSTART;TZID=America/Phoenix:20260420T080000
DTEND;TZID=America/Phoenix:20260420T160000
DTSTAMP:20260420T035440
CREATED:20260303T181945Z
LAST-MODIFIED:20260419T194529Z
UID:93793-1776672000-1776700800@www.trojansafety.com
SUMMARY:ESC Fall Protection
DESCRIPTION:Course Length: 6 to 8 HoursStart Time: 8:00am sharpCost: $220 (Plus GST)Location: Trojan Safety Training Centre\, 11116 Tahltan Road\, Fort St. John\, BC \n\nThis is an all day course that provides you with the training to successfully complete the test for certification in Energy Safety Canada ( formerly OSSA) Fall Protection. Upon completion of the test\, you will receive a permanent certificate the same day. The certificate is valid for 3 years. \n\n  \nTo register and complete the course\, you will need to have: \n\nPhoto ID\, or 2 non-photo gov’t issued ID’s\nOwn harness recommended but not necessary\n\nThis Course Covers: \n\nHazard assessments\, due diligence\, documentation\nLegislation\, PPE\, why people fall\, anchor point location\, lanyard selection\, shock absorbers & arresting forces\, fall clearance calculations\, swing fall.\nControl zones\, guard rails\, travel restraint\, safety nets\, horizontal and vertical lifelines\, descent control devices\, fall protection plans.\nAnchors\, connecting components\, lanyards\, self-retracting devices\, shock absorbers\, full-body harness\, pre-use inspection\nRescue plans\, suspension trauma\nPractical donning of full-body harness and lift\n\nCANCELLATION POLICY:Please let us know at least 24 hours (1 business day) before your course date if you need to cancel your booking\, otherwise\, you will be charged a $100 No-Show fee.
URL:https://www.trojansafety.com/event/esc-fall-protection-8/
LOCATION:Trojan Safety Services – MAIN\, CA\, CA
CATEGORIES:ESC Fall Protection
ATTACH;FMTTYPE=image/jpeg:https://www.trojansafety.com/wp-content/uploads/2026/03/ticket-tailor-event-93328-1772560335.jpg
END:VEVENT
END:VCALENDAR