BEGIN:VCALENDAR
VERSION:2.0
PRODID:-//Trojan Safety - ECPv6.15.18//NONSGML v1.0//EN
CALSCALE:GREGORIAN
METHOD:PUBLISH
X-WR-CALNAME:Trojan Safety
X-ORIGINAL-URL:https://www.trojansafety.com
X-WR-CALDESC:Events for Trojan Safety
REFRESH-INTERVAL;VALUE=DURATION:PT1H
X-Robots-Tag:noindex
X-PUBLISHED-TTL:PT1H
BEGIN:VTIMEZONE
TZID:America/Phoenix
BEGIN:STANDARD
TZOFFSETFROM:-0700
TZOFFSETTO:-0700
TZNAME:MST
DTSTART:20250101T000000
END:STANDARD
END:VTIMEZONE
BEGIN:VEVENT
DTSTART;TZID=America/Phoenix:20260413T080000
DTEND;TZID=America/Phoenix:20260424T163000
DTSTAMP:20260421T032953
CREATED:20260303T182043Z
LAST-MODIFIED:20260420T195337Z
UID:93892-1776067200-1777048200@www.trojansafety.com
SUMMARY:Advanced First Aid
DESCRIPTION:Course Length: 70 HoursCourse Schedule: This First Aid – Advanced course runs for two weeks (10 days) on the following dates: \n\nMonday to Friday from 8 am to 4:30 pm\n\nCost: $1450 (Plus GST)Location: Best Western Plus Chateau\, 8322 86 St\, Fort St. John\, BC \n\nThe WorkSafe BC First Aid – Advanced course is a minimum 70 hour program\, excluding coffee and lunch breaks. In order to be successful\, candidates achieve 70% on a multiple choice exam\, and must demonstrate practical skill competency with a grade of 70% or better. Upon successful completion of the course\, participants receive a 3-year certification. \n\nAttendance for all  SESSIONS is MANDATORY in order to be eligible for certification.\nPre-reading of the course manuals is required – see the reading list here\nIt is recommended that students pick up AFA manuals 2 weeks prior to the start date of the course to begin reading the material.\nStudents are required to complete a statement of fitness prior to the beginning of the course stating they are mentally and physically capable of performing the duties of an AFA Attendant\n\n\nTo register and complete the course\, you will need to have: \n\nPhoto ID\, or 2 non-photo gov’t issued ID’s\n\nThis course covers a wide range of patient care: \n\nMinor injuries\nSerious traumas\nMedical conditions\nAirway breathing and circulatory emergencies\n\nCANCELLATION POLICY: \nThis course is paid in full at the time of booking. Cancellations one week prior to the start date will receive a full refund. Within a week of the course\, 50% refund\, and no refund for no-shows.
URL:https://www.trojansafety.com/event/advanced-first-aid-2/
LOCATION:Best Western Plus Chateau Fort St. John\, CA\, CA
CATEGORIES:Advanced First Aid
ATTACH;FMTTYPE=image/jpeg:https://www.trojansafety.com/wp-content/uploads/2026/03/ticket-tailor-event-93334-1772560338.jpg
END:VEVENT
BEGIN:VEVENT
DTSTART;TZID=America/Phoenix:20260417T080000
DTEND;TZID=America/Phoenix:20260417T160000
DTSTAMP:20260421T032953
CREATED:20260303T182035Z
LAST-MODIFIED:20260420T195332Z
UID:93875-1776412800-1776441600@www.trojansafety.com
SUMMARY:Transportation Endorsement
DESCRIPTION:Course Length: 7 – 8 Hours (including breaks and lunch)Start Time: 8:00 am sharpCost: $170 (Plus GST)Location: 9320 – 82A Ave\, Fort St. John\, BC \n\nThe WorkSafe BC Transportation Endorsement course is a 7 hour program\, including coffee and lunch breaks. In order to be successful\, candidates must demonstrate practical skill competency. On successful completion of the course\, participants receive a 3-year certification. This certification is only valid if the attendant maintains a current OFA Level 1\, Level 2 or equivalent certificate. \n\nPrerequisites: \n\nBe at lest 16 years of age\nGovernment Issued Photo ID\nCurrent Level 1 or equivalent First Aid Certificate\n\nThis Course Covers: \n\nThe role of the first aid attendant\, the priority action approach\, and principles of transportation\nThe priority action approach\nPackaging a conscious patient\nPackaging an unconscious patient\nCaring for a patient while in transport\n\nCANCELLATION POLICY:Please let us know at least 24 hours (1 business day) before your course date if you need to cancel your booking; otherwise\, you will be charged a $100 No-Show fee.
URL:https://www.trojansafety.com/event/transportation-endorsement-8/
LOCATION:Trojan Safety Services – 9320 – 82A Ave\, Fort St. John\, BC\, CA\, CA
CATEGORIES:Transportation Endorsement
ATTACH;FMTTYPE=image/jpeg:https://www.trojansafety.com/wp-content/uploads/2026/03/ticket-tailor-event-93321-1772560325.jpg
END:VEVENT
END:VCALENDAR